{
 "currentVersion": 11.5,
 "serviceDescription": "Studium Uwarunkowań i Kierunków Zagospodarowania Przestrzennego m. Opola z 2018r.",
 "serviceItemId": "780b52a3248e4177b3cd38c6db11e674",
 "name": "BU/SUKiZP_2018",
 "description": "Studium Uwarunkowań i Kierunków Zagospodarowania Przestrzennego m. Opola z 2018r.",
 "extent": {
  "xmin": 6484117.4881,
  "ymin": 5605392.6764,
  "xmax": 6502731.3973,
  "ymax": 5626354.2554,
  "spatialReference": {
   "wkid": 2177,
   "latestWkid": 2177
  }
 },
 "initialExtent": {
  "xmin": 6484117.4881,
  "ymin": 5605392.6764,
  "xmax": 6502731.3973,
  "ymax": 5626354.2554,
  "spatialReference": {
   "wkid": 2177,
   "latestWkid": 2177
  }
 },
 "fullExtent": {
  "xmin": 6484117.4881,
  "ymin": 5605392.6764,
  "xmax": 6502731.3973,
  "ymax": 5626354.2554,
  "spatialReference": {
   "wkid": 2177,
   "latestWkid": 2177
  }
 },
 "sortableFields": "",
 "bandCount": 4,
 "pixelType": "U8",
 "minValues": [
  0,
  0,
  0,
  0
 ],
 "maxValues": [
  254,
  254,
  254,
  254
 ],
 "meanValues": [
  64.247046478086,
  60.626309035397,
  40.87888017777,
  0.27053823656787
 ],
 "stdvValues": [
  89.399404317505,
  87.56887083682,
  66.53261857032,
  8.0164408641207
 ],
 "serviceProperties": "Center<\/MosaicMethod>First<\/MosaicOperator>true<\/SortAscending><\/LockImageID><\/TileOrderField>0<\/TileOrderBase>0,000000<\/AvgImageSpacingX>0,000000<\/AvgImageSpacingY>0.0<\/ViewPointX>0.0<\/ViewPointY>0.0<\/ViewPointDefShiftX>0.0<\/ViewPointDefShiftY>JPEG<\/CompressionMethod>75<\/CompressionQuality>0,010000<\/CompressionTolerance>Nearest<\/SamplingMethod><\/ImageServiceProperties><\/ImageServer>",
 "allowedFields": "",
 "hasMultidimensions": false,
 "pixelSizeX": 0.9736835905215555,
 "pixelSizeY": 0.9736891025640985,
 "meanPixelSize": 0.9736863465428269,
 "datasetFormat": "TIFF",
 "uncompressedSize": 1646203104,
 "blockWidth": 256,
 "blockHeight": 256,
 "compressionType": "JPEG",
 "bandNames": [
  "Band_1",
  "Band_2",
  "Band_3",
  "Band_4"
 ],
 "allowCopy": true,
 "allowAnalysis": true,
 "itemAccess": false,
 "inspectionCapabilities": "",
 "noDataValue": 0,
 "noDataValues": [
  0,
  0,
  0,
  0
 ],
 "minPixelSize": 0.06614596562526459,
 "maxPixelSize": 66.1459656252646,
 "copyrightText": "Prezydent Miasta Opola",
 "serviceDataType": "esriImageServiceDataTypeGeneric",
 "serviceSourceType": "esriImageServiceSourceTypeDataset",
 "objectIdField": "",
 "fields": [],
 "capabilities": "Mensuration,Image,Metadata",
 "defaultMosaicMethod": "Center",
 "allowedMosaicMethods": "",
 "sortField": "",
 "sortValue": null,
 "sortAscending": true,
 "mosaicOperator": "First",
 "defaultCompressionQuality": 75,
 "defaultResamplingMethod": "Nearest",
 "maxImageHeight": 4100,
 "maxImageWidth": 15000,
 "singleFusedMapCache": true,
 "tileInfo": {
  "rows": 256,
  "cols": 256,
  "dpi": 96,
  "format": "MIXED",
  "compressionQuality": 75,
  "origin": {
   "x": 877300,
   "y": 1.0001299999999996E7
  },
  "spatialReference": {
   "wkid": 2177,
   "latestWkid": 2177
  },
  "lods": [
   {
    "level": 0,
    "resolution": 66.1459656252646,
    "scale": 250000
   },
   {
    "level": 1,
    "resolution": 33.0729828126323,
    "scale": 125000
   },
   {
    "level": 2,
    "resolution": 16.933367200067735,
    "scale": 64000
   },
   {
    "level": 3,
    "resolution": 8.466683600033868,
    "scale": 32000
   },
   {
    "level": 4,
    "resolution": 4.233341800016934,
    "scale": 16000
   },
   {
    "level": 5,
    "resolution": 2.116670900008467,
    "scale": 8000
   },
   {
    "level": 6,
    "resolution": 1.0583354500042335,
    "scale": 4000
   },
   {
    "level": 7,
    "resolution": 0.5291677250021167,
    "scale": 2000
   },
   {
    "level": 8,
    "resolution": 0.26458386250105836,
    "scale": 1000
   },
   {
    "level": 9,
    "resolution": 0.13229193125052918,
    "scale": 500
   },
   {
    "level": 10,
    "resolution": 0.06614596562526459,
    "scale": 250
   }
  ]
 },
 "storageInfo": {
  "storageFormat": "esriMapCacheStorageModeCompactV2",
  "packetSize": 128
 },
 "cacheType": "Map",
 "allowRasterFunction": true,
 "rasterFunctionInfos": [
  {
   "name": "None",
   "description": "",
   "help": ""
  }
 ],
 "rasterTypeInfos": [
  {
   "name": "Raster Dataset",
   "description": "Supports all ArcGIS Raster Datasets",
   "help": ""
  }
 ],
 "mensurationCapabilities": "Basic",
 "hasHistograms": true,
 "hasColormap": false,
 "hasRasterAttributeTable": false,
 "minScale": 250000,
 "maxScale": 250,
 "minLOD": 0,
 "maxLOD": 10,
 "exportTilesAllowed": false,
 "supportsStatistics": false,
 "supportsAdvancedQueries": false,
 "editFieldsInfo": null,
 "ownershipBasedAccessControlForRasters": null,
 "allowComputeTiePoints": false,
 "useStandardizedQueries": true,
 "advancedQueryCapabilities": {
  "useStandardizedQueries": true,
  "supportsStatistics": false,
  "supportsOrderBy": false,
  "supportsDistinct": false,
  "supportsPagination": false
 },
 "spatialReference": {
  "wkid": 2177,
  "latestWkid": 2177
 },
 "resampling": false
}
