{
 "currentVersion": 11.5,
 "serviceDescription": "Ortofotomapa wykonana w 2017 r.",
 "serviceItemId": "bc8cb970a2994fb1a785d921cb789565",
 "name": "ortofoto/ortofotomapa_z_2017",
 "description": "Ortofotomapa wykonana w 2017 r.",
 "extent": {
  "xmin": 6482399.999999824,
  "ymin": 5604499.999876587,
  "xmax": 6504800.000000059,
  "ymax": 5628999.999876587,
  "spatialReference": {
   "wkid": 2177,
   "latestWkid": 2177
  }
 },
 "initialExtent": {
  "xmin": 6482399.999999824,
  "ymin": 5604499.999876587,
  "xmax": 6504800.000000059,
  "ymax": 5628999.999876587,
  "spatialReference": {
   "wkid": 2177,
   "latestWkid": 2177
  }
 },
 "fullExtent": {
  "xmin": 6482399.999999824,
  "ymin": 5604499.999876587,
  "xmax": 6504800.000000059,
  "ymax": 5628999.999876587,
  "spatialReference": {
   "wkid": 2177,
   "latestWkid": 2177
  }
 },
 "sortableFields": "",
 "bandCount": 3,
 "pixelType": "U8",
 "minValues": [
  0,
  0,
  0
 ],
 "maxValues": [
  255,
  255,
  255
 ],
 "meanValues": [
  92.47676249654577,
  97.3446346318383,
  74.08720524602224
 ],
 "stdvValues": [
  48.7730931359921,
  42.48266827993395,
  39.38583300947073
 ],
 "serviceProperties": "Center<\/MosaicMethod>First<\/MosaicOperator>true<\/SortAscending><\/LockImageID><\/TileOrderField>0<\/TileOrderBase>0,000000<\/AvgImageSpacingX>0,000000<\/AvgImageSpacingY>0.0<\/ViewPointX>0.0<\/ViewPointY>0.0<\/ViewPointDefShiftX>0.0<\/ViewPointDefShiftY>None<\/CompressionMethod>75<\/CompressionQuality>0,010000<\/CompressionTolerance>Bilinear<\/SamplingMethod><\/ImageServiceProperties><\/ImageServer>",
 "allowedFields": "",
 "hasMultidimensions": false,
 "pixelSizeX": 0.05000000000052387,
 "pixelSizeY": 0.05,
 "meanPixelSize": 0.05000000000026193,
 "datasetFormat": "FGDBR",
 "uncompressedSize": 658560000000,
 "blockWidth": 256,
 "blockHeight": 256,
 "compressionType": "JPEG2000",
 "bandNames": [
  "Band_1",
  "Band_2",
  "Band_3"
 ],
 "allowCopy": true,
 "allowAnalysis": true,
 "itemAccess": false,
 "inspectionCapabilities": "",
 "minPixelSize": 0.06614596562526459,
 "maxPixelSize": 66.1459656252646,
 "copyrightText": "Prezydent Miasta Opola",
 "serviceDataType": "esriImageServiceDataTypeRGB",
 "serviceSourceType": "esriImageServiceSourceTypeDataset",
 "objectIdField": "",
 "fields": [],
 "capabilities": "Mensuration,Image,Metadata",
 "defaultMosaicMethod": "Center",
 "allowedMosaicMethods": "",
 "sortField": "",
 "sortValue": null,
 "sortAscending": true,
 "mosaicOperator": "First",
 "defaultCompressionQuality": 75,
 "defaultResamplingMethod": "Bilinear",
 "maxImageHeight": 4100,
 "maxImageWidth": 15000,
 "singleFusedMapCache": true,
 "tileInfo": {
  "rows": 256,
  "cols": 256,
  "dpi": 96,
  "format": "MIXED",
  "compressionQuality": 75,
  "origin": {
   "x": 877300,
   "y": 1.0001299999999996E7
  },
  "spatialReference": {
   "wkid": 2177,
   "latestWkid": 2177
  },
  "lods": [
   {
    "level": 0,
    "resolution": 66.1459656252646,
    "scale": 250000
   },
   {
    "level": 1,
    "resolution": 33.0729828126323,
    "scale": 125000
   },
   {
    "level": 2,
    "resolution": 16.933367200067735,
    "scale": 64000
   },
   {
    "level": 3,
    "resolution": 8.466683600033868,
    "scale": 32000
   },
   {
    "level": 4,
    "resolution": 4.233341800016934,
    "scale": 16000
   },
   {
    "level": 5,
    "resolution": 2.116670900008467,
    "scale": 8000
   },
   {
    "level": 6,
    "resolution": 1.0583354500042335,
    "scale": 4000
   },
   {
    "level": 7,
    "resolution": 0.5291677250021167,
    "scale": 2000
   },
   {
    "level": 8,
    "resolution": 0.26458386250105836,
    "scale": 1000
   },
   {
    "level": 9,
    "resolution": 0.13229193125052918,
    "scale": 500
   },
   {
    "level": 10,
    "resolution": 0.06614596562526459,
    "scale": 250
   }
  ]
 },
 "storageInfo": {
  "storageFormat": "esriMapCacheStorageModeCompactV2",
  "packetSize": 128
 },
 "cacheType": "Map",
 "allowRasterFunction": true,
 "rasterFunctionInfos": [
  {
   "name": "None",
   "description": "",
   "help": ""
  }
 ],
 "rasterTypeInfos": [
  {
   "name": "Raster Dataset",
   "description": "Supports all ArcGIS Raster Datasets",
   "help": ""
  }
 ],
 "mensurationCapabilities": "3D",
 "hasHistograms": true,
 "hasColormap": false,
 "hasRasterAttributeTable": false,
 "minScale": 250000,
 "maxScale": 250,
 "exportTilesAllowed": false,
 "supportsStatistics": false,
 "supportsAdvancedQueries": false,
 "editFieldsInfo": null,
 "ownershipBasedAccessControlForRasters": null,
 "allowComputeTiePoints": false,
 "useStandardizedQueries": true,
 "advancedQueryCapabilities": {
  "useStandardizedQueries": true,
  "supportsStatistics": false,
  "supportsOrderBy": false,
  "supportsDistinct": false,
  "supportsPagination": false
 },
 "spatialReference": {
  "wkid": 2177,
  "latestWkid": 2177
 },
 "resampling": false
}
