View In:
ArcGIS JavaScript
ArcGIS Online Map Viewer
ArcGIS Earth
Service Description: ortofotomapy/Fotoplan_kwiecien_2025
Name: ortofotomapy/Fotoplan_kwiecien_2025
Description:
Single Fused Map Cache: true
Tile Info:
- Height: 256
- Width: 256
- DPI: 96
-
Levels of Detail: 11
- Format: MIXED
- Compression Quality: 75.0
- LERC Error: NaN
- Origin: X: 877300.0
Y: 1.0001299999999996E7
- Spatial Reference: 2177
(2177)
LatestVCSWkid(0)
Storage Info:
- Storage Format: esriMapCacheStorageModeCompactV2
- Packet Size: 128
Extent:
XMin: 6483605.654308081
YMin: 5604627.112352923
XMax: 6503105.704326241
YMax: 5626827.162683729
Spatial Reference: 2177
(2177)
LatestVCSWkid(0)
Initial Extent:
XMin: 6483605.654308081
YMin: 5604627.112352923
XMax: 6503105.704326241
YMax: 5626827.162683729
Spatial Reference: 2177
(2177)
LatestVCSWkid(0)
Full Extent:
XMin: 6483605.654308081
YMin: 5604627.112352923
XMax: 6503105.704326241
YMax: 5626827.162683729
Spatial Reference: 2177
(2177)
LatestVCSWkid(0)
Pixel Size X: 0.05000000004656553
Pixel Size Y: 0.05000000074505806
Band Count: 4
Pixel Type: U8
RasterFunction Infos: {"rasterFunctionInfos": [{
"name": "None",
"description": "",
"help": ""
}]}
Mensuration Capabilities: Basic
Inspection Capabilities:
Has Histograms: true
Has Colormap: false
Has Multi Dimensions : false
Rendering Rule:
Min Scale: 250000
Max Scale: 250
Min LOD: 0
Max LOD: 10
Copyright Text:
Service Data Type: esriImageServiceDataTypeGeneric
Min Values: 0, 0, 0, 0
Max Values: 255, 255, 255, 255
Mean Values: 115.9101460814168, 111.81014158085702, 94.34108820551283, 254.3957450630496
Standard Deviation Values: 57.519520038508794, 49.54611380317762, 46.348950511071465, 12.333924511946018
Object ID Field:
Fields:
None
Default Mosaic Method: Center
Allowed Mosaic Methods:
SortField:
SortValue: null
Mosaic Operator: First
Default Compression Quality: 75
Default Resampling Method: Bilinear
Max Record Count: null
Max Image Height: 4100
Max Image Width: 15000
Max Download Image Count: null
Max Mosaic Image Count: null
Allow Raster Function: false
Allow Copy: true
Allow Analysis: true
Allow Compute TiePoints: false
Supports Statistics: false
Supports Advanced Queries: false
Use StandardizedQueries: true
Raster Type Infos:
Name: Raster Dataset
Description: Supports all ArcGIS Raster Datasets
Help:
Has Raster Attribute Table: false
Edit Fields Info: null
Ownership Based AccessControl For Rasters: null
Child Resources:
Info
Histograms
Statistics
Key Properties
Legend
Raster Function Infos
Supported Operations:
Export Image
Identify
Measure
Compute Histograms
Compute Statistics Histograms
Get Samples
Compute Class Statistics
Query Boundary
Compute Pixel Location
Compute Angles
Validate
Project