View In:
ArcGIS JavaScript
ArcGIS Online Map Viewer
ArcGIS Earth
Service Description: Załącznik nr 1 do uchwały nr XII/199/19 Rady Miasta Opola z dnia 27 czerwca 2019r. Zasady i warunki sytuowania obiektów małej architektury, tablic reklamowych i urządzeń reklamowych oraz ogrodzeń w Opolu
Name: BU/zasady_i_warunki_sytuowania_obiektow_malej_architektury_i_reklam
Description: Załącznik nr 1 do uchwały nr XII/199/19 Rady Miasta Opola z dnia 27 czerwca 2019r. Zasady i warunki sytuowania obiektów małej architektury, tablic reklamowych i urządzeń reklamowych oraz ogrodzeń w Opolu
Single Fused Map Cache: true
Tile Info:
- Height: 256
- Width: 256
- DPI: 96
-
Levels of Detail: 11
- Format: MIXED
- Compression Quality: 75.0
- LERC Error: NaN
- Origin: X: 877300.0
Y: 1.00013E7
- Spatial Reference: 2177
(2177)
LatestVCSWkid(0)
Storage Info:
- Storage Format: esriMapCacheStorageModeCompactV2
- Packet Size: 128
Extent:
XMin: 6483831.38354287
YMin: 5604853.982410957
XMax: 6502831.383562251
YMax: 5626853.982433398
Spatial Reference: 2177
(2177)
LatestVCSWkid(0)
Initial Extent:
XMin: 6483831.38354287
YMin: 5604853.982410957
XMax: 6502831.383562251
YMax: 5626853.982433398
Spatial Reference: 2177
(2177)
LatestVCSWkid(0)
Full Extent:
XMin: 6483831.38354287
YMin: 5604853.982410957
XMax: 6502831.383562251
YMax: 5626853.982433398
Spatial Reference: 2177
(2177)
LatestVCSWkid(0)
Pixel Size X: 1.2700534772313383
Pixel Size Y: 1.270061195153051
Band Count: 4
Pixel Type: U8
RasterFunction Infos: {"rasterFunctionInfos": [{
"name": "None",
"description": "",
"help": ""
}]}
Mensuration Capabilities: Basic
Inspection Capabilities:
Has Histograms: false
Has Colormap: false
Has Multi Dimensions : false
Rendering Rule:
Min Scale: 250000
Max Scale: 250
Resampling: false
Copyright Text: Prezydent Miasta Opola
Service Data Type: esriImageServiceDataTypeGeneric
Min Values: N/A
Max Values: N/A
Mean Values: N/A
Standard Deviation Values: N/A
Object ID Field:
Fields:
None
Default Mosaic Method: Center
Allowed Mosaic Methods:
SortField:
SortValue: null
Mosaic Operator: First
Default Compression Quality: 75
Default Resampling Method: Bilinear
Max Record Count: null
Max Image Height: 4100
Max Image Width: 15000
Max Download Image Count: null
Max Mosaic Image Count: null
Allow Raster Function: true
Allow Copy: true
Allow Analysis: true
Allow Compute TiePoints: false
Supports Statistics: false
Supports Advanced Queries: false
Use StandardizedQueries: true
Raster Type Infos:
Name: Raster Dataset
Description: Supports all ArcGIS Raster Datasets
Help:
Has Raster Attribute Table: false
Edit Fields Info: null
Ownership Based AccessControl For Rasters: null
Child Resources:
Info
Statistics
Key Properties
Legend
Raster Function Infos
Supported Operations:
Export Image
Identify
Measure
Compute Histograms
Compute Statistics Histograms
Get Samples
Compute Class Statistics
Query Boundary
Compute Pixel Location
Compute Angles
Validate
Project