View In:
ArcGIS JavaScript
ArcGIS Online Map Viewer
ArcGIS Earth
Service Description: Ortofotomapa z 2015 r.
Name: ortofoto/ortofotomapa_z_2015
Description: Ortofotomapa z 2015 r.
Single Fused Map Cache: true
Tile Info:
- Height: 256
- Width: 256
- DPI: 96
-
Levels of Detail: 11
- Format: MIXED
- Compression Quality: 75.0
- LERC Error: NaN
- Origin: X: 877300.0
Y: 1.0001299999999996E7
- Spatial Reference: 2177
(2177)
LatestVCSWkid(0)
Storage Info:
- Storage Format: esriMapCacheStorageModeCompactV2
- Packet Size: 128
Extent:
XMin: 6486400.0
YMin: 5604000.0
XMax: 6504800.0
YMax: 5623000.0
Spatial Reference: 2177
(2177)
LatestVCSWkid(0)
Initial Extent:
XMin: 6486400.0
YMin: 5604000.0
XMax: 6504800.0
YMax: 5623000.0
Spatial Reference: 2177
(2177)
LatestVCSWkid(0)
Full Extent:
XMin: 6486400.0
YMin: 5604000.0
XMax: 6504800.0
YMax: 5623000.0
Spatial Reference: 2177
(2177)
LatestVCSWkid(0)
Pixel Size X: 0.07000003804349894
Pixel Size Y: 0.06999988947385873
Band Count: 3
Pixel Type: U8
RasterFunction Infos: {"rasterFunctionInfos": [{
"name": "None",
"description": "",
"help": ""
}]}
Mensuration Capabilities: Basic
Inspection Capabilities:
Has Histograms: true
Has Colormap: false
Has Multi Dimensions : false
Rendering Rule:
Min Scale: 250000
Max Scale: 250
Copyright Text: Prezydent Miasta Opola
Service Data Type: esriImageServiceDataTypeRGB
Min Values: 0, 0, 0
Max Values: 254, 254, 254
Mean Values: 122.81910768843727, 125.2667746363, 112.63096084694736
Standard Deviation Values: 39.84772947865455, 35.8108385427638, 32.17050203889511
Object ID Field:
Fields:
None
Default Mosaic Method: Center
Allowed Mosaic Methods:
SortField:
SortValue: null
Mosaic Operator: First
Default Compression Quality: 75
Default Resampling Method: Bilinear
Max Record Count: null
Max Image Height: 4100
Max Image Width: 15000
Max Download Image Count: null
Max Mosaic Image Count: null
Allow Raster Function: true
Allow Copy: true
Allow Analysis: true
Allow Compute TiePoints: false
Supports Statistics: false
Supports Advanced Queries: false
Use StandardizedQueries: true
Raster Type Infos:
Name: Raster Dataset
Description: Supports all ArcGIS Raster Datasets
Help:
Has Raster Attribute Table: false
Edit Fields Info: null
Ownership Based AccessControl For Rasters: null
Child Resources:
Info
Histograms
Statistics
Key Properties
Legend
Raster Function Infos
Supported Operations:
Export Image
Identify
Measure
Compute Histograms
Compute Statistics Histograms
Get Samples
Compute Class Statistics
Query Boundary
Compute Pixel Location
Compute Angles
Validate
Project