View In:
ArcGIS JavaScript
ArcGIS Online Map Viewer
ArcGIS Earth
Service Description: Studium Uwarunkowań i Kierunków Zagospodarowania Przestrzennego m. Opola z 2018r.
Name: BU/SUKiZP_2018
Description: Studium Uwarunkowań i Kierunków Zagospodarowania Przestrzennego m. Opola z 2018r.
Single Fused Map Cache: true
Tile Info:
- Height: 256
- Width: 256
- DPI: 96
-
Levels of Detail: 11
- Format: MIXED
- Compression Quality: 75.0
- LERC Error: NaN
- Origin: X: 877300.0
Y: 1.0001299999999996E7
- Spatial Reference: 2177
(2177)
LatestVCSWkid(0)
Storage Info:
- Storage Format: esriMapCacheStorageModeCompactV2
- Packet Size: 128
Extent:
XMin: 6484117.4881
YMin: 5605392.6764
XMax: 6502731.3973
YMax: 5626354.2554
Spatial Reference: 2177
(2177)
LatestVCSWkid(0)
Initial Extent:
XMin: 6484117.4881
YMin: 5605392.6764
XMax: 6502731.3973
YMax: 5626354.2554
Spatial Reference: 2177
(2177)
LatestVCSWkid(0)
Full Extent:
XMin: 6484117.4881
YMin: 5605392.6764
XMax: 6502731.3973
YMax: 5626354.2554
Spatial Reference: 2177
(2177)
LatestVCSWkid(0)
Pixel Size X: 0.9736835905215555
Pixel Size Y: 0.9736891025640985
Band Count: 4
Pixel Type: U8
RasterFunction Infos: {"rasterFunctionInfos": [{
"name": "None",
"description": "",
"help": ""
}]}
Mensuration Capabilities: Basic
Inspection Capabilities:
Has Histograms: true
Has Colormap: false
Has Multi Dimensions : false
Rendering Rule:
Min Scale: 250000
Max Scale: 250
Min LOD: 0
Max LOD: 10
Resampling: false
Copyright Text: Prezydent Miasta Opola
Service Data Type: esriImageServiceDataTypeGeneric
Min Values: 0, 0, 0, 0
Max Values: 254, 254, 254, 254
Mean Values: 64.247046478086, 60.626309035397, 40.87888017777, 0.27053823656787
Standard Deviation Values: 89.399404317505, 87.56887083682, 66.53261857032, 8.0164408641207
Object ID Field:
Fields:
None
Default Mosaic Method: Center
Allowed Mosaic Methods:
SortField:
SortValue: null
Mosaic Operator: First
Default Compression Quality: 75
Default Resampling Method: Nearest
Max Record Count: null
Max Image Height: 4100
Max Image Width: 15000
Max Download Image Count: null
Max Mosaic Image Count: null
Allow Raster Function: true
Allow Copy: true
Allow Analysis: true
Allow Compute TiePoints: false
Supports Statistics: false
Supports Advanced Queries: false
Use StandardizedQueries: true
Raster Type Infos:
Name: Raster Dataset
Description: Supports all ArcGIS Raster Datasets
Help:
Has Raster Attribute Table: false
Edit Fields Info: null
Ownership Based AccessControl For Rasters: null
Child Resources:
Info
Histograms
Statistics
Key Properties
Legend
Raster Function Infos
Supported Operations:
Export Image
Identify
Measure
Compute Histograms
Compute Statistics Histograms
Get Samples
Compute Class Statistics
Query Boundary
Compute Pixel Location
Compute Angles
Validate
Project